BEGIN:VCALENDAR
VERSION:2.0
PRODID:-//Legionowskie Towarzystwo Sportowe - ECPv6.15.19//NONSGML v1.0//EN
CALSCALE:GREGORIAN
METHOD:PUBLISH
X-WR-CALNAME:Legionowskie Towarzystwo Sportowe
X-ORIGINAL-URL:https://bron-lts.pl
X-WR-CALDESC:Wydarzenia dla Legionowskie Towarzystwo Sportowe
REFRESH-INTERVAL;VALUE=DURATION:PT1H
X-Robots-Tag:noindex
X-PUBLISHED-TTL:PT1H
BEGIN:VTIMEZONE
TZID:Europe/Warsaw
BEGIN:DAYLIGHT
TZOFFSETFROM:+0100
TZOFFSETTO:+0200
TZNAME:CEST
DTSTART:20250330T010000
END:DAYLIGHT
BEGIN:STANDARD
TZOFFSETFROM:+0200
TZOFFSETTO:+0100
TZNAME:CET
DTSTART:20251026T010000
END:STANDARD
BEGIN:DAYLIGHT
TZOFFSETFROM:+0100
TZOFFSETTO:+0200
TZNAME:CEST
DTSTART:20260329T010000
END:DAYLIGHT
BEGIN:STANDARD
TZOFFSETFROM:+0200
TZOFFSETTO:+0100
TZNAME:CET
DTSTART:20261025T010000
END:STANDARD
BEGIN:DAYLIGHT
TZOFFSETFROM:+0100
TZOFFSETTO:+0200
TZNAME:CEST
DTSTART:20270328T010000
END:DAYLIGHT
BEGIN:STANDARD
TZOFFSETFROM:+0200
TZOFFSETTO:+0100
TZNAME:CET
DTSTART:20271031T010000
END:STANDARD
BEGIN:DAYLIGHT
TZOFFSETFROM:+0100
TZOFFSETTO:+0200
TZNAME:CEST
DTSTART:20280326T010000
END:DAYLIGHT
BEGIN:STANDARD
TZOFFSETFROM:+0200
TZOFFSETTO:+0100
TZNAME:CET
DTSTART:20281029T010000
END:STANDARD
END:VTIMEZONE
BEGIN:VEVENT
DTSTART;TZID=Europe/Warsaw:20261201T080000
DTEND;TZID=Europe/Warsaw:20271229T170000
DTSTAMP:20260419T220125
CREATED:20260305T165918Z
LAST-MODIFIED:20260305T165918Z
UID:3405-1796112000-1830099600@bron-lts.pl
SUMMARY:Zawody dla Zapominalskich 2026
DESCRIPTION:Zawody Dla Zapominalskich | 01.12.2026 – 29.12.2026\nSzczegóły wkrótce
URL:https://bron-lts.pl/event/zawody-dla-zapominalskich-2026/
LOCATION:Legionowskie Towarzystwo Sportowe\, ul. Stanisława Moniuszki 41\, Legionowo\, mazowieckie\, 05-120\, Poland
CATEGORIES:Zawody
ORGANIZER;CN="Legionowskie Towarzystwo Sportowe":MAILTO:ltslegionowo@gmail.com
END:VEVENT
END:VCALENDAR