BEGIN:VCALENDAR
VERSION:2.0
PRODID:-//Legionowskie Towarzystwo Sportowe - ECPv6.15.19//NONSGML v1.0//EN
CALSCALE:GREGORIAN
METHOD:PUBLISH
X-WR-CALNAME:Legionowskie Towarzystwo Sportowe
X-ORIGINAL-URL:https://bron-lts.pl
X-WR-CALDESC:Wydarzenia dla Legionowskie Towarzystwo Sportowe
REFRESH-INTERVAL;VALUE=DURATION:PT1H
X-Robots-Tag:noindex
X-PUBLISHED-TTL:PT1H
BEGIN:VTIMEZONE
TZID:Europe/Warsaw
BEGIN:DAYLIGHT
TZOFFSETFROM:+0100
TZOFFSETTO:+0200
TZNAME:CEST
DTSTART:20250330T010000
END:DAYLIGHT
BEGIN:STANDARD
TZOFFSETFROM:+0200
TZOFFSETTO:+0100
TZNAME:CET
DTSTART:20251026T010000
END:STANDARD
BEGIN:DAYLIGHT
TZOFFSETFROM:+0100
TZOFFSETTO:+0200
TZNAME:CEST
DTSTART:20260329T010000
END:DAYLIGHT
BEGIN:STANDARD
TZOFFSETFROM:+0200
TZOFFSETTO:+0100
TZNAME:CET
DTSTART:20261025T010000
END:STANDARD
BEGIN:DAYLIGHT
TZOFFSETFROM:+0100
TZOFFSETTO:+0200
TZNAME:CEST
DTSTART:20270328T010000
END:DAYLIGHT
BEGIN:STANDARD
TZOFFSETFROM:+0200
TZOFFSETTO:+0100
TZNAME:CET
DTSTART:20271031T010000
END:STANDARD
END:VTIMEZONE
BEGIN:VEVENT
DTSTART;VALUE=DATE:20260516
DTEND;VALUE=DATE:20260517
DTSTAMP:20260419T105736
CREATED:20260305T163441Z
LAST-MODIFIED:20260305T170025Z
UID:3391-1778889600-1778975999@bron-lts.pl
SUMMARY:Benchrest Wiosna 2026
DESCRIPTION:Benchrest Wiosna | 16.05.2026\nStrzelnica Marynino\nSzczegóły wkrótce
URL:https://bron-lts.pl/event/benchrest-wiosna/
LOCATION:Marynino Strzelnica Bellona\, Marynino 41\, Marynino\, mazowieckie\, 05-140\, Poland
CATEGORIES:Zawody
ORGANIZER;CN="Legionowskie Towarzystwo Sportowe":MAILTO:ltslegionowo@gmail.com
END:VEVENT
END:VCALENDAR